BEGIN:VCALENDAR
VERSION:2.0
PRODID:-//pretalx//programme.bigre.coop//bigre-rencontre-2022//speaker//RKH
 AXF
BEGIN:VTIMEZONE
TZID:CET
BEGIN:STANDARD
DTSTART:20001029T040000
RRULE:FREQ=YEARLY;BYDAY=-1SU;BYMONTH=10
TZNAME:CET
TZOFFSETFROM:+0200
TZOFFSETTO:+0100
END:STANDARD
BEGIN:DAYLIGHT
DTSTART:20000326T030000
RRULE:FREQ=YEARLY;BYDAY=-1SU;BYMONTH=3
TZNAME:CEST
TZOFFSETFROM:+0100
TZOFFSETTO:+0200
END:DAYLIGHT
END:VTIMEZONE
BEGIN:VEVENT
UID:pretalx-bigre-rencontre-2022-LYWETM@programme.bigre.coop
DTSTART;TZID=CET:20220822T210000
DTEND;TZID=CET:20220822T220000
DESCRIPTION:Laurine Gougeon nous propose de lancer en musique et en chanson
 s cette première soirée Bigre rencontre.\n \nDécouvrez Laurinne sur ce 
 teaser vidéo ici ! https://www.youtube.com/watch?v=IJMaFGDfi2E\n\n//\n\nL
 aurinne Gougeon invites you to kick off La Bigre! Rencontre’s opening ni
 ght with live music and song. \n\nGet a preview of what Laurinne has in st
 ore for us here: https://www.youtube.com/watch?v=IJMaFGDfi2E
DTSTAMP:20260421T114527Z
LOCATION:Théâtre
SUMMARY:Le petit concert de Laurinne // Live music with Laurinne - Laurine 
 Gougeon
URL:https://programme.bigre.coop/bigre-rencontre-2022/talk/LYWETM/
END:VEVENT
BEGIN:VEVENT
UID:pretalx-bigre-rencontre-2022-93E7Z7@programme.bigre.coop
DTSTART;TZID=CET:20220823T173000
DTEND;TZID=CET:20220823T184500
DESCRIPTION:Beaucoup de cœur\, énormément de corps et un brin de concent
 ration. Cardio\, renfo et étirements\, voilà ce qui composera ce moment 
 !
DTSTAMP:20260421T114527Z
LOCATION:Pinède Méditerranée
SUMMARY:Et le sport\, on s'y remet?! - Laurine Gougeon
URL:https://programme.bigre.coop/bigre-rencontre-2022/talk/93E7Z7/
END:VEVENT
END:VCALENDAR
