BEGIN:VCALENDAR
VERSION:2.0
PRODID:-//pretalx//programme.bigre.coop//bigre-rencontre-2022//speaker//RAV
 GSP
BEGIN:VTIMEZONE
TZID:CET
BEGIN:STANDARD
DTSTART:20001029T040000
RRULE:FREQ=YEARLY;BYDAY=-1SU;BYMONTH=10
TZNAME:CET
TZOFFSETFROM:+0200
TZOFFSETTO:+0100
END:STANDARD
BEGIN:DAYLIGHT
DTSTART:20000326T030000
RRULE:FREQ=YEARLY;BYDAY=-1SU;BYMONTH=3
TZNAME:CEST
TZOFFSETFROM:+0100
TZOFFSETTO:+0200
END:DAYLIGHT
END:VTIMEZONE
BEGIN:VEVENT
UID:pretalx-bigre-rencontre-2022-MWJLWN@programme.bigre.coop
DTSTART;TZID=CET:20220826T090000
DTEND;TZID=CET:20220826T120000
DESCRIPTION:Instant créatif\, venez jouez avec les matières et les couleu
 rs\, sous la pinède pour participer à un atelier couture zéro déchet. 
 Vous pourrez réaliser des lingettes et ou serviettes hygiéniques lavable
 s\, ainsi que des sacs à vracs tout en échangeant vos propres recettes e
 t inventions en la matière. \nDébutant·e bienvenu·e\, matériel et out
 ils fournis.
DTSTAMP:20260421T114343Z
LOCATION:Salle Gabian
SUMMARY:Atelier créatif sur support zéro déchet - Fabien Quatravaux\, Bl
 andine de Montgolfier
URL:https://programme.bigre.coop/bigre-rencontre-2022/talk/MWJLWN/
END:VEVENT
END:VCALENDAR
