BEGIN:VCALENDAR
VERSION:2.0
PRODID:-//pretalx//programme.bigre.coop//bigre-rencontre-2022//speaker//QMU
 QHP
BEGIN:VTIMEZONE
TZID:CET
BEGIN:STANDARD
DTSTART:20001029T040000
RRULE:FREQ=YEARLY;BYDAY=-1SU;BYMONTH=10
TZNAME:CET
TZOFFSETFROM:+0200
TZOFFSETTO:+0100
END:STANDARD
BEGIN:DAYLIGHT
DTSTART:20000326T030000
RRULE:FREQ=YEARLY;BYDAY=-1SU;BYMONTH=3
TZNAME:CEST
TZOFFSETFROM:+0100
TZOFFSETTO:+0200
END:DAYLIGHT
END:VTIMEZONE
BEGIN:VEVENT
UID:pretalx-bigre-rencontre-2022-PWGGYP@programme.bigre.coop
DTSTART;TZID=CET:20220826T090000
DTEND;TZID=CET:20220826T120000
DESCRIPTION:Favoriser l'échange suite à la présentation du programme de 
 recherche de Samuel Hévin portant sur le dialogue social coopératif.
DTSTAMP:20260421T120123Z
LOCATION:Pinède Méditerranée
SUMMARY:Présentation et échange sur la recherche autour du dialogue socia
 l coopératif - Samuel Hévin
URL:https://programme.bigre.coop/bigre-rencontre-2022/talk/PWGGYP/
END:VEVENT
END:VCALENDAR
