BEGIN:VCALENDAR
VERSION:2.0
PRODID:-//pretalx//programme.bigre.coop//bigre-rencontre-2022//speaker//QGG
 B3Y
BEGIN:VTIMEZONE
TZID:CET
BEGIN:STANDARD
DTSTART:20001029T040000
RRULE:FREQ=YEARLY;BYDAY=-1SU;BYMONTH=10
TZNAME:CET
TZOFFSETFROM:+0200
TZOFFSETTO:+0100
END:STANDARD
BEGIN:DAYLIGHT
DTSTART:20000326T030000
RRULE:FREQ=YEARLY;BYDAY=-1SU;BYMONTH=3
TZNAME:CEST
TZOFFSETFROM:+0100
TZOFFSETTO:+0200
END:DAYLIGHT
END:VTIMEZONE
BEGIN:VEVENT
UID:pretalx-bigre-rencontre-2022-ADHCNN@programme.bigre.coop
DTSTART;TZID=CET:20220822T143000
DTEND;TZID=CET:20220822T170000
DESCRIPTION:>     Pendant cet atelier\, nous souhaitons nous plonger dans l
 es temps des entrepreneur·euses salarié·es afin de regarder les temps d
 e travail comme les temps personnels\, les temps courts comme les temps lo
 ngs\, le présent et l’avenir dans un échange de regards et de pratique
 s.  A l’inverse d’une approche individualisante\, ce travail en groupe
  vise à entraîner une réappropriation collective de nos temps et de nou
 s questionner sur ce sujet sources d’envies (ralentissement\, vitesse) e
 t d’injonctions.\n>\n>\n>     Un atelier développé par Samuel Michalon
 \, Céline Pochon et Thomas Tudoux dans le cadre de la Recherche-Action-Cr
 éation émancipation des travailleur·euses autonomes.
DTSTAMP:20260421T120140Z
LOCATION:Pinède Méditerranée
SUMMARY:La Pointeuse - Thomas Tudoux
URL:https://programme.bigre.coop/bigre-rencontre-2022/talk/ADHCNN/
END:VEVENT
END:VCALENDAR
