BEGIN:VCALENDAR
VERSION:2.0
PRODID:-//pretalx//programme.bigre.coop//bigre-rencontre-2022//speaker//NPR
 9SG
BEGIN:VTIMEZONE
TZID:CET
BEGIN:STANDARD
DTSTART:20001029T040000
RRULE:FREQ=YEARLY;BYDAY=-1SU;BYMONTH=10
TZNAME:CET
TZOFFSETFROM:+0200
TZOFFSETTO:+0100
END:STANDARD
BEGIN:DAYLIGHT
DTSTART:20000326T030000
RRULE:FREQ=YEARLY;BYDAY=-1SU;BYMONTH=3
TZNAME:CEST
TZOFFSETFROM:+0100
TZOFFSETTO:+0200
END:DAYLIGHT
END:VTIMEZONE
BEGIN:VEVENT
UID:pretalx-bigre-rencontre-2022-VB8CNE@programme.bigre.coop
DTSTART;TZID=CET:20220822T143000
DTEND;TZID=CET:20220822T170000
DESCRIPTION:Savoir adapter son offre commerciale et sa tarification à des 
 assos lorsque je suis confronté·e à une clientèle associative : ressou
 rces plus faibles\, non assujettissement à la TVA\, etc. Comment faire po
 ur répondre à des projets intéressants\, tout en respectant son activit
 é et son modèle économique ?
DTSTAMP:20260421T114411Z
LOCATION:Pinède Scène
SUMMARY:Mes clients sont des assos : comment faire ? - Christophe Bellec\, 
 Eléonore Charles
URL:https://programme.bigre.coop/bigre-rencontre-2022/talk/VB8CNE/
END:VEVENT
END:VCALENDAR
