BEGIN:VCALENDAR
VERSION:2.0
PRODID:-//pretalx//programme.bigre.coop//bigre-rencontre-2022//speaker//MCL
 QJR
BEGIN:VTIMEZONE
TZID:CET
BEGIN:STANDARD
DTSTART:20001029T040000
RRULE:FREQ=YEARLY;BYDAY=-1SU;BYMONTH=10
TZNAME:CET
TZOFFSETFROM:+0200
TZOFFSETTO:+0100
END:STANDARD
BEGIN:DAYLIGHT
DTSTART:20000326T030000
RRULE:FREQ=YEARLY;BYDAY=-1SU;BYMONTH=3
TZNAME:CEST
TZOFFSETFROM:+0100
TZOFFSETTO:+0200
END:DAYLIGHT
END:VTIMEZONE
BEGIN:VEVENT
UID:pretalx-bigre-rencontre-2022-YXWNJ9@programme.bigre.coop
DTSTART;TZID=CET:20220823T090000
DTEND;TZID=CET:20220823T120000
DESCRIPTION:La fédération des Coopératives d'Activité et d'Emploi (CAE\
 , forme française de coopératives de travailleur·euses) créée en 2020
  fédère 135 coopératives avec 12.000 entrepreneur·euses sur de multipl
 es métiers. Sa mission est de porter l'ambition des CAE\, d'accompagner l
 eur développement et celui de l'entrepreneuriat en CAE\, en s'appuyant su
 r l'inter-coopération et les partenariats. Au-delà des mutualisations en
 tre CAE\, comment la fédération peut-elle être levier pour déployer le
 s coopérations entre entrepreneur·euses ? \n\nAvec Cécile Malaterre (Su
 ite 126\, coprésidente de la Fédération des CAE)\, Carine Lamalle (Crea
 lead\, administratrice)\, Marie Piles (Mine de Talents\, administratrice) 
 et Joseph Leblanc (Terracoopa\, administrateur).
DTSTAMP:20260421T114358Z
LOCATION:Pinède Scène
SUMMARY:Comment la Fédération des Coopératives d'Activité et d'Emploi (
 CAE) peut-elle favoriser l'intercoopération entre entrepreneur·euses? - 
 Marie Piles\, Joseph Leblanc\, Cécile Malaterre
URL:https://programme.bigre.coop/bigre-rencontre-2022/talk/YXWNJ9/
END:VEVENT
END:VCALENDAR
