BEGIN:VCALENDAR
VERSION:2.0
PRODID:-//pretalx//programme.bigre.coop//bigre-rencontre-2022//speaker//M7D
 3WM
BEGIN:VTIMEZONE
TZID:CET
BEGIN:STANDARD
DTSTART:20001029T040000
RRULE:FREQ=YEARLY;BYDAY=-1SU;BYMONTH=10
TZNAME:CET
TZOFFSETFROM:+0200
TZOFFSETTO:+0100
END:STANDARD
BEGIN:DAYLIGHT
DTSTART:20000326T030000
RRULE:FREQ=YEARLY;BYDAY=-1SU;BYMONTH=3
TZNAME:CEST
TZOFFSETFROM:+0100
TZOFFSETTO:+0200
END:DAYLIGHT
END:VTIMEZONE
BEGIN:VEVENT
UID:pretalx-bigre-rencontre-2022-PN9RLK@programme.bigre.coop
DTSTART;TZID=CET:20220823T143000
DTEND;TZID=CET:20220823T170000
DESCRIPTION:Chacun·e\, au sein de nos coopératives\, exerçons un métier
  : nous avons des savoir-faire\, des connaissances\, mais aussi des normes
 \, des valeurs\, une éthique dont nous avons besoin de parler\, de partag
 er\, de confronter pour pouvoir collectivement les faire valoir et les dé
 fendre face à nos commanditaires. \nComment au sein de nos coopératives 
 pouvons-nous trouver les ressources nécessaires à cette mise en discussi
 on de nos pratiques ? Quels espaces pouvons-nous penser pour réfléchir n
 otre travail ? Et plus largement\, quelle place pour nos métiers au sein 
 des coopératives ? C’est ce que nous nous proposerons de mettre en disc
 ussion lors de cet atelier.
DTSTAMP:20260421T114520Z
LOCATION:Pinède Scène
SUMMARY:Penser nos métiers collectivement - Yolande Costantini\, Valérie 
 Thierry
URL:https://programme.bigre.coop/bigre-rencontre-2022/talk/PN9RLK/
END:VEVENT
BEGIN:VEVENT
UID:pretalx-bigre-rencontre-2022-GU8DMP@programme.bigre.coop
DTSTART;TZID=CET:20220824T143000
DTEND;TZID=CET:20220824T170000
DESCRIPTION:Participation aux conseils d'administration\, aux commissions\,
  aux comités\, mais aussi aux différents temps coopératifs\, aux collec
 tifs\, ou bien encore aux formations nécessaires pour exercer son métier
 … Autant d’heures de travail qui bénéficient à l’ensemble de nos 
 coopératives mais qui sont bien souvent non reconnues\, non valorisées e
 t non rémunérées. Un travail gratuit\, invisible qui pose question dans
  nos coopératives qui défendent un autre rapport au travail et le droit 
 à une juste rémunération. \n\nAlors comment mieux prendre en compte ce 
 travail ? Quelle valorisation\, voire quelle rémunération pour nos engag
 ements volontaires ? C’est ce que nous nous proposerons de mettre en dis
 cussion lors de cet atelier.
DTSTAMP:20260421T114520Z
LOCATION:Pinède Méditerranée
SUMMARY:Le travail invisible au sein de nos coopératives - Yolande Costant
 ini\, Valérie Thierry
URL:https://programme.bigre.coop/bigre-rencontre-2022/talk/GU8DMP/
END:VEVENT
END:VCALENDAR
