BEGIN:VCALENDAR
VERSION:2.0
PRODID:-//pretalx//programme.bigre.coop//bigre-rencontre-2022//speaker//L3V
 PZC
BEGIN:VTIMEZONE
TZID:CET
BEGIN:STANDARD
DTSTART:20001029T040000
RRULE:FREQ=YEARLY;BYDAY=-1SU;BYMONTH=10
TZNAME:CET
TZOFFSETFROM:+0200
TZOFFSETTO:+0100
END:STANDARD
BEGIN:DAYLIGHT
DTSTART:20000326T030000
RRULE:FREQ=YEARLY;BYDAY=-1SU;BYMONTH=3
TZNAME:CEST
TZOFFSETFROM:+0100
TZOFFSETTO:+0200
END:DAYLIGHT
END:VTIMEZONE
BEGIN:VEVENT
UID:pretalx-bigre-rencontre-2022-UGS3ET@programme.bigre.coop
DTSTART;TZID=CET:20220825T143000
DTEND;TZID=CET:20220825T170000
DESCRIPTION:Le Mouvement pour l'Économie Solidaire (MES) partage lors de c
 et atelier sa Formation Action visant la co-construction d'un référentie
 l commun sur les gouvernances collectives.
DTSTAMP:20260421T120104Z
LOCATION:Salle Gabian
SUMMARY:Formation Action sur les Gouvernances collectives - Alice Oechsner 
 de Coninck
URL:https://programme.bigre.coop/bigre-rencontre-2022/talk/UGS3ET/
END:VEVENT
END:VCALENDAR
