BEGIN:VCALENDAR
VERSION:2.0
PRODID:-//pretalx//programme.bigre.coop//bigre-rencontre-2022//speaker//J8L
 FRN
BEGIN:VTIMEZONE
TZID:CET
BEGIN:STANDARD
DTSTART:20001029T040000
RRULE:FREQ=YEARLY;BYDAY=-1SU;BYMONTH=10
TZNAME:CET
TZOFFSETFROM:+0200
TZOFFSETTO:+0100
END:STANDARD
BEGIN:DAYLIGHT
DTSTART:20000326T030000
RRULE:FREQ=YEARLY;BYDAY=-1SU;BYMONTH=3
TZNAME:CEST
TZOFFSETFROM:+0100
TZOFFSETTO:+0200
END:DAYLIGHT
END:VTIMEZONE
BEGIN:VEVENT
UID:pretalx-bigre-rencontre-2022-UBJM7U@programme.bigre.coop
DTSTART;TZID=CET:20220824T143000
DTEND;TZID=CET:20220824T170000
DESCRIPTION:Visite culturelle du musée Georges Brassens\, incontournable d
 e la ville de Sète qui a vu naître et grandir l'artiste.\nL'Espace Georg
 es Brassens qui a ouvert ses portes en 1991 a été pensé non pas comme u
 n musée classique mais comme un lieu consacré au poète musicien.\n\nA l
 'image de l'artiste épris de liberté auquel il est dédié\, cet Espace 
 a été conçu dans un souci de transparence architecturale avec un large 
 panorama s'ouvrant sur l'Etang de Thau : on n'enferme pas un poète !!!
DTSTAMP:20260421T120123Z
LOCATION:Hors Lazaret
SUMMARY:Visite du musée Georges Brassens - Rémi Gerbaud
URL:https://programme.bigre.coop/bigre-rencontre-2022/talk/UBJM7U/
END:VEVENT
END:VCALENDAR
