BEGIN:VCALENDAR
VERSION:2.0
PRODID:-//pretalx//programme.bigre.coop//bigre-rencontre-2022//speaker//HWG
 BDS
BEGIN:VTIMEZONE
TZID:CET
BEGIN:STANDARD
DTSTART:20001029T040000
RRULE:FREQ=YEARLY;BYDAY=-1SU;BYMONTH=10
TZNAME:CET
TZOFFSETFROM:+0200
TZOFFSETTO:+0100
END:STANDARD
BEGIN:DAYLIGHT
DTSTART:20000326T030000
RRULE:FREQ=YEARLY;BYDAY=-1SU;BYMONTH=3
TZNAME:CEST
TZOFFSETFROM:+0100
TZOFFSETTO:+0200
END:DAYLIGHT
END:VTIMEZONE
BEGIN:VEVENT
UID:pretalx-bigre-rencontre-2022-EJFWTQ@programme.bigre.coop
DTSTART;TZID=CET:20220822T173000
DTEND;TZID=CET:20220822T184500
DESCRIPTION:Atelier d’écriture récréatif et ressourçant\, à partir d
 e propositions inspirantes et ludiques\, tes propres mots te guideront de 
 surprise en surprise. Peut-être jusqu'à la scène ?
DTSTAMP:20260421T120141Z
LOCATION:Pinède Frégate
SUMMARY:Atelier d'écriture - Isabelle Guibert\, La Fille des Carnets
URL:https://programme.bigre.coop/bigre-rencontre-2022/talk/EJFWTQ/
END:VEVENT
END:VCALENDAR
