BEGIN:VCALENDAR
VERSION:2.0
PRODID:-//pretalx//programme.bigre.coop//bigre-rencontre-2022//speaker//HF9
 SSF
BEGIN:VTIMEZONE
TZID:CET
BEGIN:STANDARD
DTSTART:20001029T040000
RRULE:FREQ=YEARLY;BYDAY=-1SU;BYMONTH=10
TZNAME:CET
TZOFFSETFROM:+0200
TZOFFSETTO:+0100
END:STANDARD
BEGIN:DAYLIGHT
DTSTART:20000326T030000
RRULE:FREQ=YEARLY;BYDAY=-1SU;BYMONTH=3
TZNAME:CEST
TZOFFSETFROM:+0100
TZOFFSETTO:+0200
END:DAYLIGHT
END:VTIMEZONE
BEGIN:VEVENT
UID:pretalx-bigre-rencontre-2022-NWS8FC@programme.bigre.coop
DTSTART;TZID=CET:20220822T143000
DTEND;TZID=CET:20220822T170000
DESCRIPTION:La pyramide des besoins\, ou pyramide de Maslow\, aide à compr
 endre les motivations\, à hiérarchiser les besoins. Elle est bien adapt
 ée aux comportements liés au changement climatique pour accomplir volont
 airement des changements utiles. L'atelier en intelligence collective\, ba
 sé sur la théorie U\, permet de vivre les mécanismes de la pyramide de 
 Maslow pour différencier ce qui\, pour soi-même\, est fondamental\, de c
 e qui l'est moins.​​
DTSTAMP:20260421T114342Z
LOCATION:Salle Oratoire
SUMMARY:De quoi ai-je vraiment besoin pour être heureux·euse ? - Nathalie
  Lance
URL:https://programme.bigre.coop/bigre-rencontre-2022/talk/NWS8FC/
END:VEVENT
END:VCALENDAR
