BEGIN:VCALENDAR
VERSION:2.0
PRODID:-//pretalx//programme.bigre.coop//bigre-rencontre-2022//speaker//GHP
 D3H
BEGIN:VTIMEZONE
TZID:CET
BEGIN:STANDARD
DTSTART:20001029T040000
RRULE:FREQ=YEARLY;BYDAY=-1SU;BYMONTH=10
TZNAME:CET
TZOFFSETFROM:+0200
TZOFFSETTO:+0100
END:STANDARD
BEGIN:DAYLIGHT
DTSTART:20000326T030000
RRULE:FREQ=YEARLY;BYDAY=-1SU;BYMONTH=3
TZNAME:CEST
TZOFFSETFROM:+0100
TZOFFSETTO:+0200
END:DAYLIGHT
END:VTIMEZONE
BEGIN:VEVENT
UID:pretalx-bigre-rencontre-2022-NYXNT3@programme.bigre.coop
DTSTART;TZID=CET:20220825T100000
DTEND;TZID=CET:20220825T120000
DESCRIPTION:- Une journée de retour d’expérience(s) sur le thème des C
 oopératives d'Activité et d'Emploi (CAE\, forme française de coopérati
 ves de travailleur·euses) & Tiers-Lieux (en Nouvelle Aquitaine avec la Co
 op Tiers-Lieux\, en AURA avec Oxamyne\, en Hauts-De-France avec Opteos\, C
 ie TL et ANIS…).\n\n- Un soin à faire rétrospective sur les tiers-lieu
 x depuis 2009 (et l’expérience de la Cantine de Silicon Sentier). Il po
 urrait être possible de travailler sur une chronologie par exemple\, asso
 rtie d’une sélection d’ouvrages et articles (dans l’esprit de l’
 école de la coopération).\n\n- Un axe tiers-lieux pouvant donner lieu à
  des ateliers d’échanges de savoirs & pratiques (comme le propose d’h
 abitude BIGRE). Nous pourrions être dans un “commissariat” (avec un a
 ppel à manifestation d’intérêt dans les tiers-lieux et les CAE\, si n
 ous avons l’élan).\n\nConditions d'accès : participer à l'atelier "Ti
 ers-lieux et CAE : cohabitations\, croisements et devenirs (2/2)" du jeudi
  après-midi de 14h30 à 17h.
DTSTAMP:20260421T114343Z
LOCATION:Salle Méditerranée
SUMMARY:Tiers-lieux et Coopératives d'Activité et d'Emploi (CAE) : cohabi
 tations\, croisements et devenirs (1/2) - Nicolas Loubet
URL:https://programme.bigre.coop/bigre-rencontre-2022/talk/NYXNT3/
END:VEVENT
BEGIN:VEVENT
UID:pretalx-bigre-rencontre-2022-LEDWEB@programme.bigre.coop
DTSTART;TZID=CET:20220825T100000
DTEND;TZID=CET:20220825T120000
DESCRIPTION:- Une journée de retour d’expérience(s) sur le thème des C
 oopérative d'Activité et d'Emploi (CAE\, forme française de coopérativ
 es de travailleur·euses) & Tiers-Lieux (en Nouvelle Aquitaine avec la Coo
 p Tiers-Lieux\, en AURA avec Oxamyne\, en Hauts-De-France avec Opteos\, Ci
 e TL et ANIS…).\n\n- Un soin à faire rétrospective sur les tiers-lieux
  depuis 2009 (et l’expérience de la Cantine de Silicon Sentier). Il pou
 rrait être possible de travailler sur une chronologie par exemple\, assor
 tie d’une sélection d’ouvrages et articles (dans l’esprit de l’é
 cole de la coopération).\n\n- Un axe tiers-lieux pouvant donner lieu à d
 es ateliers d’échanges de savoirs & pratiques (comme le propose d’hab
 itude BIGRE). Nous pourrions être dans un “commissariat” (avec un app
 el à manifestation d’intérêt dans les tiers-lieux et les CAE\, si nou
 s avons l’élan).\n\nConditions d'accès : avoir participé à l'atelier
  "Tiers-lieux et CAE : cohabitations\, croisements et devenirs (1/2)" du j
 eudi matin de 10h à 12h.
DTSTAMP:20260421T114343Z
LOCATION:Salle Méditerranée
SUMMARY:Tiers-lieux et Coopératives d'Activité et d'Emploi (CAE) : cohabi
 tations\, croisements et devenirs (2/2) - Nicolas Loubet
URL:https://programme.bigre.coop/bigre-rencontre-2022/talk/LEDWEB/
END:VEVENT
END:VCALENDAR
