BEGIN:VCALENDAR
VERSION:2.0
PRODID:-//pretalx//programme.bigre.coop//bigre-rencontre-2022//speaker//FYJ
 8VS
BEGIN:VTIMEZONE
TZID:CET
BEGIN:STANDARD
DTSTART:20001029T040000
RRULE:FREQ=YEARLY;BYDAY=-1SU;BYMONTH=10
TZNAME:CET
TZOFFSETFROM:+0200
TZOFFSETTO:+0100
END:STANDARD
BEGIN:DAYLIGHT
DTSTART:20000326T030000
RRULE:FREQ=YEARLY;BYDAY=-1SU;BYMONTH=3
TZNAME:CEST
TZOFFSETFROM:+0100
TZOFFSETTO:+0200
END:DAYLIGHT
END:VTIMEZONE
BEGIN:VEVENT
UID:pretalx-bigre-rencontre-2022-BMPNX3@programme.bigre.coop
DTSTART;TZID=CET:20220822T143000
DTEND;TZID=CET:20220822T170000
DESCRIPTION:Un atelier d'arpentage pour découvrir un livre qui traite de l
 'histoire\, la philosophie\, la valeur ou l'actualité de la vie coopérat
 ive. Le choix de l'ouvrage pourra être fait en fonction des propositions 
 des participant·es.
DTSTAMP:20260421T120123Z
LOCATION:Pinède Frégate
SUMMARY:Arpentage : aux sources des coopératives - Jean Lambret
URL:https://programme.bigre.coop/bigre-rencontre-2022/talk/BMPNX3/
END:VEVENT
END:VCALENDAR
