BEGIN:VCALENDAR
VERSION:2.0
PRODID:-//pretalx//programme.bigre.coop//bigre-rencontre-2022//speaker//FNC
 B8S
BEGIN:VTIMEZONE
TZID:CET
BEGIN:STANDARD
DTSTART:20001029T040000
RRULE:FREQ=YEARLY;BYDAY=-1SU;BYMONTH=10
TZNAME:CET
TZOFFSETFROM:+0200
TZOFFSETTO:+0100
END:STANDARD
BEGIN:DAYLIGHT
DTSTART:20000326T030000
RRULE:FREQ=YEARLY;BYDAY=-1SU;BYMONTH=3
TZNAME:CEST
TZOFFSETFROM:+0100
TZOFFSETTO:+0200
END:DAYLIGHT
END:VTIMEZONE
BEGIN:VEVENT
UID:pretalx-bigre-rencontre-2022-33NPJF@programme.bigre.coop
DTSTART;TZID=CET:20220823T090000
DTEND;TZID=CET:20220823T120000
DESCRIPTION:Sur les hauteurs du Mont Saint Clair\, nous décrypterons le pa
 ysage visible depuis le belvédère après quelques apports sur la notion 
 de paysage.
DTSTAMP:20260421T120123Z
LOCATION:Hors Lazaret
SUMMARY:Lecture de paysage - François Wattellier\, Sébastien Kraft
URL:https://programme.bigre.coop/bigre-rencontre-2022/talk/33NPJF/
END:VEVENT
BEGIN:VEVENT
UID:pretalx-bigre-rencontre-2022-JSJRNL@programme.bigre.coop
DTSTART;TZID=CET:20220823T173000
DTEND;TZID=CET:20220823T184500
DESCRIPTION:Un temps ouvert pour mieux comprendre ce qu'est le CSE\, Comit
 é Social et Économique.
DTSTAMP:20260421T120123Z
LOCATION:Salle Gabian
SUMMARY:Qu'est-ce que le CSE? - François Wattellier\, Pauline Mauve-Buchpa
 n\, Nicole Pillon
URL:https://programme.bigre.coop/bigre-rencontre-2022/talk/JSJRNL/
END:VEVENT
BEGIN:VEVENT
UID:pretalx-bigre-rencontre-2022-KCLJUR@programme.bigre.coop
DTSTART;TZID=CET:20220824T090000
DTEND;TZID=CET:20220824T120000
DESCRIPTION:Prospective sur le dialogue social coopératif
DTSTAMP:20260421T120123Z
LOCATION:Salle Cette
SUMMARY:Prospective sur le dialogue social coopératif - François Wattelli
 er\, Nicole Pillon
URL:https://programme.bigre.coop/bigre-rencontre-2022/talk/KCLJUR/
END:VEVENT
END:VCALENDAR
