BEGIN:VCALENDAR
VERSION:2.0
PRODID:-//pretalx//programme.bigre.coop//bigre-rencontre-2022//speaker//FJR
 NWA
BEGIN:VTIMEZONE
TZID:CET
BEGIN:STANDARD
DTSTART:20001029T040000
RRULE:FREQ=YEARLY;BYDAY=-1SU;BYMONTH=10
TZNAME:CET
TZOFFSETFROM:+0200
TZOFFSETTO:+0100
END:STANDARD
BEGIN:DAYLIGHT
DTSTART:20000326T030000
RRULE:FREQ=YEARLY;BYDAY=-1SU;BYMONTH=3
TZNAME:CEST
TZOFFSETFROM:+0100
TZOFFSETTO:+0200
END:DAYLIGHT
END:VTIMEZONE
BEGIN:VEVENT
UID:pretalx-bigre-rencontre-2022-FXZV3Q@programme.bigre.coop
DTSTART;TZID=CET:20220823T143000
DTEND;TZID=CET:20220823T170000
DESCRIPTION:Offrez-vous un temps pour vous\, pour explorer vos aspirations.
 .. Quels sont vos rêves\, souhaits et projets que vous souhaitez voir se 
 concrétiser en cette rentrée ? Sélectionnez des images\, des mots\, des
  symboles\, de la couleur\, pour vous projeter dans cette reprise... Le vi
 sion board stimule votre motivation et facilite l'atteinte de vos objectif
 s. C'est une source d'inspiration qui vous accompagnera tout au long de l'
 année. \n\nAtelier en groupe\, adapté aux rêves et aux objectifs de cha
 cun·e. Nul besoin d’être artiste dans l’âme pour arriver à un rés
 ultat pertinent et beau ! Aucune compétence particulière n'est requise !
DTSTAMP:20260421T115247Z
LOCATION:Salle Oratoire
SUMMARY:Création d'un vision board pour la rentrée - Anne-Cécile Véricel
URL:https://programme.bigre.coop/bigre-rencontre-2022/talk/FXZV3Q/
END:VEVENT
BEGIN:VEVENT
UID:pretalx-bigre-rencontre-2022-FJUZB3@programme.bigre.coop
DTSTART;TZID=CET:20220825T143000
DTEND;TZID=CET:20220825T170000
DESCRIPTION:Parce qu'être parent est une véritable aventure\, parfois ple
 ine de défis\, participer à un groupe de soutien de parents est une bell
 e occasion de trouver de l’inspiration et des encouragements dans les di
 fficultés et les questionnements rencontrés au quotidien. Cet atelier d
 écouverte offre un petit avant-goût de ce qui se vit lors des ateliers p
 arentaux Vivre et Grandir Ensemble\, pour remettre la joie au cœur de la 
 vie de famille\, pour resserrer les liens parents-enfants. \nLes ateliers 
 pour parents "Vivre et Grandir Ensemble" ont été créés par Catherine D
 umonteil-Kremer\, pionnière du soutien à la parentalité en France\, con
 férencière\, formatrice et auteure notamment de "Élever son enfant autr
 ement" et "Une nouvelle autorité sans punition ni fessée".
DTSTAMP:20260421T115247Z
LOCATION:Pinède accueil
SUMMARY:Vivre et Grandir Ensemble - Anne-Cécile Véricel
URL:https://programme.bigre.coop/bigre-rencontre-2022/talk/FJUZB3/
END:VEVENT
END:VCALENDAR
