BEGIN:VCALENDAR
VERSION:2.0
PRODID:-//pretalx//programme.bigre.coop//bigre-rencontre-2022//speaker//FGA
 GLD
BEGIN:VTIMEZONE
TZID:CET
BEGIN:STANDARD
DTSTART:20001029T040000
RRULE:FREQ=YEARLY;BYDAY=-1SU;BYMONTH=10
TZNAME:CET
TZOFFSETFROM:+0200
TZOFFSETTO:+0100
END:STANDARD
BEGIN:DAYLIGHT
DTSTART:20000326T030000
RRULE:FREQ=YEARLY;BYDAY=-1SU;BYMONTH=3
TZNAME:CEST
TZOFFSETFROM:+0100
TZOFFSETTO:+0200
END:DAYLIGHT
END:VTIMEZONE
BEGIN:VEVENT
UID:pretalx-bigre-rencontre-2022-QAM7WJ@programme.bigre.coop
DTSTART;TZID=CET:20220823T143000
DTEND;TZID=CET:20220823T170000
DESCRIPTION:Pour les indépendant·es travaillant via une plateforme\, le d
 éveloppement des compétences peut être un défi. Dans cet atelier\, nou
 s explorerons les moyens de faciliter et d'organiser l'apprentissage colle
 ctif et entre pairs dans le contexte de plateformes coopératives. Dans l'
 atelier\, nous voulons partager nos efforts de développement de solutions
  pour la pratique du partage des connaissances entre les membres de la coo
 pérative. Notre intention est également de lancer une collaboration tran
 snationale sur ce sujet.\n\nL'atelier est organisé par les deux organisat
 ions coopératives suédoises Coompanion et Smart Coop Suède. Coompanion 
 est un réseau de 25 organisations régionales d'appui aux coopératives. 
 Smart Suède fait partie de la coopérative européenne Smart. \n\n//\n\nF
 or platform based freelancers the development of competence can be a chall
 enge. In this workshop\, we will be exploring ways to facilitate and organ
 ise collective and peer-to-peer learning in the context of cooperative pla
 tforms. We want to share our efforts of developing solutions for knowledge
  sharing practise between freelancers in the cooperative. Our intention is
  also to start transnational collaboration on this topic. \n\nThe workshop
  is organised by the two swedish cooperative organisations Coompanion and 
 Smart Coop Sweden. Coompanion is a network of 25 regional cooperative supp
 ort organisations. Smart Sweden is a part of the European platform coopera
 tive Smart. \n\nWith Sven Bartilsson and Frida Wikström (Smart Sweden).
DTSTAMP:20260421T114401Z
LOCATION:Salle Méditerranée
SUMMARY:Développement des compétences : comment permettre un apprentissag
 e collectif au sein des plateformes coopératives? // Competence developme
 nt : how to enable collective learning in platform coops? - Frida Wikströ
 m\, Sven Bartilsson
URL:https://programme.bigre.coop/bigre-rencontre-2022/talk/QAM7WJ/
END:VEVENT
END:VCALENDAR
