BEGIN:VCALENDAR
VERSION:2.0
PRODID:-//pretalx//programme.bigre.coop//bigre-rencontre-2022//speaker//CYS
 RKY
BEGIN:VTIMEZONE
TZID:CET
BEGIN:STANDARD
DTSTART:20001029T040000
RRULE:FREQ=YEARLY;BYDAY=-1SU;BYMONTH=10
TZNAME:CET
TZOFFSETFROM:+0200
TZOFFSETTO:+0100
END:STANDARD
BEGIN:DAYLIGHT
DTSTART:20000326T030000
RRULE:FREQ=YEARLY;BYDAY=-1SU;BYMONTH=3
TZNAME:CEST
TZOFFSETFROM:+0100
TZOFFSETTO:+0200
END:DAYLIGHT
END:VTIMEZONE
BEGIN:VEVENT
UID:pretalx-bigre-rencontre-2022-R3CGWG@programme.bigre.coop
DTSTART;TZID=CET:20220817T143000
DTEND;TZID=CET:20220817T170000
DESCRIPTION:Avec les incessants progrès de la connaissance et qui s’acc
 élèrent\, les savoirs connaissent une expansion illimitée\, s’enrichi
 ssent et changent. Ils sont morcelés et éparpillés à tous les échelon
 s. Dans ce contexte\, enseigner et former\, est-ce aujourd’hui transmett
 re des savoirs ou apprendre à apprendre ? Comment faire l’un et comment
  faire l’autre ? En particulier dans les compétences humaines et manag
 ériales qui sont le cœur de l’expertise des formateur·trices coopéra
 tifs ?\n\nComment aussi sur des formations le plus souvent courtes permett
 re le partage et la production collective des savoirs et des méthodes pou
 r les produire ? Quel bilan tirer des techniques d’animation pédagogiqu
 e d’intelligence collective expérimentées depuis quelques années ? Qu
 el bilan en termes de connaissances et compétences gagnées ? \n\nChacun 
 des participant·es de l’atelier sera amené·e à se positionner sur ce
 s questions en amenant au groupe le bilan d’une pratique expérimentée 
 et le partage d’un questionnement.
DTSTAMP:20260421T120124Z
LOCATION:Pinède Scène
SUMMARY:Apprendre au 21ème siècle\, c'est apprendre à apprendre - Pierre
  Liret
URL:https://programme.bigre.coop/bigre-rencontre-2022/talk/R3CGWG/
END:VEVENT
BEGIN:VEVENT
UID:pretalx-bigre-rencontre-2022-STBCNS@programme.bigre.coop
DTSTART;TZID=CET:20220825T143000
DTEND;TZID=CET:20220825T170000
DESCRIPTION:Construire la Sécurité économique
DTSTAMP:20260421T120124Z
LOCATION:Salle Cette
SUMMARY:Construire la Sécurité économique - Stéphane Veyer\, Benoit Bor
 rits\, Pierre Liret
URL:https://programme.bigre.coop/bigre-rencontre-2022/talk/STBCNS/
END:VEVENT
BEGIN:VEVENT
UID:pretalx-bigre-rencontre-2022-SEYN3W@programme.bigre.coop
DTSTART;TZID=CET:20220826T093000
DTEND;TZID=CET:20220826T123000
DESCRIPTION:Cet atelier débutera par des témoignages d’entrepreneur·eu
 ses salarié·es sur leurs parcours en vue d’obtenir des revenus en rapp
 ort avec leurs aspirations. \nAprès la présentation du projet de Sécuri
 té économique\, l’atelier aura comme objectif de vérifier ce que cett
 e proposition aurait pu apporter au développement des Coopératives d'Act
 ivité et d'Emploi (CAE\, forme française de coopératives de travailleur
 ·euses) et à l’épanouissement de ses différent·es intervenant·es (
 entrepreneur·euses et salarié·es permanent·es).
DTSTAMP:20260421T120124Z
LOCATION:Salle Aigrettes
SUMMARY:Sécuriser les revenus des entrepreneurs salariés - Stéphane Veye
 r\, Benoit Borrits\, Pierre Liret
URL:https://programme.bigre.coop/bigre-rencontre-2022/talk/SEYN3W/
END:VEVENT
END:VCALENDAR
