BEGIN:VCALENDAR
VERSION:2.0
PRODID:-//pretalx//programme.bigre.coop//bigre-rencontre-2022//speaker//CJS
 AQA
BEGIN:VTIMEZONE
TZID:CET
BEGIN:STANDARD
DTSTART:20001029T040000
RRULE:FREQ=YEARLY;BYDAY=-1SU;BYMONTH=10
TZNAME:CET
TZOFFSETFROM:+0200
TZOFFSETTO:+0100
END:STANDARD
BEGIN:DAYLIGHT
DTSTART:20000326T030000
RRULE:FREQ=YEARLY;BYDAY=-1SU;BYMONTH=3
TZNAME:CEST
TZOFFSETFROM:+0100
TZOFFSETTO:+0200
END:DAYLIGHT
END:VTIMEZONE
BEGIN:VEVENT
UID:pretalx-bigre-rencontre-2022-M7DC7K@programme.bigre.coop
DTSTART;TZID=CET:20220823T090000
DTEND;TZID=CET:20220823T120000
DESCRIPTION:Atelier destiné aux accompagnateur·trices des équipes struct
 ure des coopératives : profitons de Bigre pour échanger sur nos pratique
 s et expériences d'accompagnement de collectifs d'entrepreneur·euses !\n
 \nConditions d'accès : faire partie d'une des équipes d'accompagnement d
 es coopératives (chargé·es d'accompagnement\, accompagnateur·trices\, 
 conseiller·es).
DTSTAMP:20260421T120125Z
LOCATION:Pinède Méditerranée
SUMMARY:Accompagnateur·trices d'équipe : croisons nos expériences d'acco
 mpagnement des collectifs - Samuel Barreau\, Carine Julien
URL:https://programme.bigre.coop/bigre-rencontre-2022/talk/M7DC7K/
END:VEVENT
BEGIN:VEVENT
UID:pretalx-bigre-rencontre-2022-7CGB7K@programme.bigre.coop
DTSTART;TZID=CET:20220824T143000
DTEND;TZID=CET:20220824T170000
DESCRIPTION:En quoi la formation est-elle\, au quotidien\, un levier de coo
 pération dans nos coopératives ? \nÀ  la fois en ingénierie de formati
 on (collecte des besoins\, montage des formations: coopération entre les 
 formateur·trices)\, mais également entre les apprenant·es (pendant les 
 sessions\, hors sessions dans le cadre de parcours) avec l'objectif de met
 tre en commun.\n\nL'atelier est ouvert aux formateur·trices. Nous proposo
 ns que chaque coopérative présente son point de vue et sa pratique à ce
  sujet\, sous forme d'ateliers d'échanges de pratiques et de réflexion.
DTSTAMP:20260421T120125Z
LOCATION:Salle Aigrettes
SUMMARY:Formation et Coopération - Thierry Plantegenet\, Carine Julien
URL:https://programme.bigre.coop/bigre-rencontre-2022/talk/7CGB7K/
END:VEVENT
END:VCALENDAR
