BEGIN:VCALENDAR
VERSION:2.0
PRODID:-//pretalx//programme.bigre.coop//bigre-rencontre-2022//speaker//AJB
 HE7
BEGIN:VTIMEZONE
TZID:CET
BEGIN:STANDARD
DTSTART:20001029T040000
RRULE:FREQ=YEARLY;BYDAY=-1SU;BYMONTH=10
TZNAME:CET
TZOFFSETFROM:+0200
TZOFFSETTO:+0100
END:STANDARD
BEGIN:DAYLIGHT
DTSTART:20000326T030000
RRULE:FREQ=YEARLY;BYDAY=-1SU;BYMONTH=3
TZNAME:CEST
TZOFFSETFROM:+0100
TZOFFSETTO:+0200
END:DAYLIGHT
END:VTIMEZONE
BEGIN:VEVENT
UID:pretalx-bigre-rencontre-2022-7LXRHY@programme.bigre.coop
DTSTART;TZID=CET:20220822T143000
DTEND;TZID=CET:20220822T170000
DESCRIPTION:L'atelier d'initiation à la Fresque de la Renaissance écologi
 que est la présentation pratique d'une approche très visuelle d'intellig
 ence collective pour se projeter sur la transformation d'un territoire dan
 s une démarche de durabilité. Tous les éléments d'un idéal "ville/cam
 pagne" y figurent de manière allégorique sur l'inspiration d'une fresque
  siennoise de la Renaissance. \nL'atelier donne la vision écosystémique 
 qu'un monde durable est à notre portée et ouvre le champ des possibles !
DTSTAMP:20260421T115149Z
LOCATION:Salle Méditerranée
SUMMARY:Fresque de la Renaissance Écologique - Nadine Le Moing
URL:https://programme.bigre.coop/bigre-rencontre-2022/talk/7LXRHY/
END:VEVENT
END:VCALENDAR
