BEGIN:VCALENDAR
VERSION:2.0
PRODID:-//pretalx//programme.bigre.coop//bigre-rencontre-2022//speaker//87S
 YAL
BEGIN:VTIMEZONE
TZID:CET
BEGIN:STANDARD
DTSTART:20001029T040000
RRULE:FREQ=YEARLY;BYDAY=-1SU;BYMONTH=10
TZNAME:CET
TZOFFSETFROM:+0200
TZOFFSETTO:+0100
END:STANDARD
BEGIN:DAYLIGHT
DTSTART:20000326T030000
RRULE:FREQ=YEARLY;BYDAY=-1SU;BYMONTH=3
TZNAME:CEST
TZOFFSETFROM:+0100
TZOFFSETTO:+0200
END:DAYLIGHT
END:VTIMEZONE
BEGIN:VEVENT
UID:pretalx-bigre-rencontre-2022-F3NEVE@programme.bigre.coop
DTSTART;TZID=CET:20220823T143000
DTEND;TZID=CET:20220823T170000
DESCRIPTION:Jeu d'intelligence collective et de coopération qui permet à 
 chacun d'avancer dans sa quête grâce aux autres joueur·euses\, tout en 
 les aidant à réaliser leur quête (matérielle\, relationnelle\, etc.).
DTSTAMP:20260421T114359Z
LOCATION:Salle Cette
SUMMARY:Animation d'une session Jeu du Tao - Sophie Cortez
URL:https://programme.bigre.coop/bigre-rencontre-2022/talk/F3NEVE/
END:VEVENT
END:VCALENDAR
