BEGIN:VCALENDAR
VERSION:2.0
PRODID:-//pretalx//programme.bigre.coop//bigre-rencontre-2022//speaker//3VC
 NJJ
BEGIN:VTIMEZONE
TZID:CET
BEGIN:STANDARD
DTSTART:20001029T040000
RRULE:FREQ=YEARLY;BYDAY=-1SU;BYMONTH=10
TZNAME:CET
TZOFFSETFROM:+0200
TZOFFSETTO:+0100
END:STANDARD
BEGIN:DAYLIGHT
DTSTART:20000326T030000
RRULE:FREQ=YEARLY;BYDAY=-1SU;BYMONTH=3
TZNAME:CEST
TZOFFSETFROM:+0100
TZOFFSETTO:+0200
END:DAYLIGHT
END:VTIMEZONE
BEGIN:VEVENT
UID:pretalx-bigre-rencontre-2022-BTB3B9@programme.bigre.coop
DTSTART;TZID=CET:20220824T143000
DTEND;TZID=CET:20220824T163000
DESCRIPTION:Les coopératives de travail associé et les coopératives soci
 ales s'opposent au travail non déclaré en Europe // Worker and social co
 operatives against undeclared work in Europe
DTSTAMP:20260421T114400Z
LOCATION:Salle Méditerranée
SUMMARY:Les coopératives de travail associé et les coopératives sociales
  s'opposent au travail non déclaré en Europe // Worker and social cooper
 atives against undeclared work in Europe - Francesca Martinelli
URL:https://programme.bigre.coop/bigre-rencontre-2022/talk/BTB3B9/
END:VEVENT
END:VCALENDAR
